BEGIN:VCALENDAR
VERSION:2.0
PRODID:Events Booking
BEGIN:VEVENT
UID:69eb5d1b58afb
SUMMARY:Club Outing - February
DESCRIPTION:This is an opportunity to capture nautical related images suita
 ble for the forthcoming monthly competition. There is potential to also cr
 eate some minimalist images.Your contact for this shoot will be Jeffrey Mo
 tt.The shoot will provide opportunities to practice your panning technique
  and potential for post-production photo stacking.For panning\, Jeff sugge
 sts a 50-300mm or equivalent lens and an ND filter while for an overview o
 f photo stacking see&nbsp\;https://www.youtube.com/watch?v=P6kurH5e-Zg&nbs
 p\;. As well\, Jeff is happy to cover photo stacking in the 23 February Di
 gital Image Improvement Group.Free parking is available\, but it can get b
 usy at times.Post shoot we could adjourn to the Manly Boathouse for dinner
 .
LOCATION:Manly Boat Harbour\, Moreton Bay Cycle Way\, Manly\, City of Brisb
 ane\, Queensland\, 4179\, Australia
DTSTART:20260228T051500Z
DTEND:20260228T081500Z
DTSTAMP:20260124T191838Z
ORGANIZER;CN=Mt Gravatt Photographic Society:MAILTO:info@mgps.org.au
GEO:-27.450419;153.192459
X-APPLE-STRUCTURED-LOCATION;VALUE=URI;X-ADDRESS=Manly Boat Harbour\, Moreto
 n Bay Cycle Way\, Manly\, City of Brisbane\, Queensland\, 4179\, Australia
 ;X-APPLE-RADIUS=72;X-TITLE=Norfolk Point Manly:-27.450419;153.192459
END:VEVENT
BEGIN:VEVENT
UID:69eb5d1b58b9e
SUMMARY:Annual Invitation Handball Competition - Photo Opportunity
DESCRIPTION:Saturday 11 April\, Sunday 12 April Negotiated timesAnnual&nbsp
 \;Invitation&nbsp\;Handball Competition&nbsp\;Nissan Arena cnr Kessels and
  Main Rd MacGregor
 Shoot for a negotiated time over the two days or&nbsp
 \;if space allows\, for the whole competition. A game is 2 x&nbsp\;30-minu
 te&nbsp\;halves with several matches each day.
 Chris Seen will be availa
 ble to&nbsp\;provide&nbsp\;shooting guidance&nbsp\;about&nbsp\;where&nbsp\
 ;to position yourself\, what action to look for and initial camera setting
 s.
 The organisers have asked for photographers to have a Blue Card.&nbsp
 \;
 If you are interested contact Chris on&nbsp\;0406645341&nbsp\;ASAP or
  prior to Easter.&nbsp\;
 See the club’s Facebook page for more detail.
LOCATION:590\, Mains Road\, Nathan\, Brisbane\, Queensland\, 4111\, Austral
 ia
DTSTART:20260410T220000Z
DTEND:20260412T080000Z
DTSTAMP:20260402T215208Z
ORGANIZER;CN=Mt Gravatt Photographic Society:MAILTO:info@mgps.org.au
GEO:-27.560102;153.065556
X-APPLE-STRUCTURED-LOCATION;VALUE=URI;X-ADDRESS=590\, Mains Road\, Nathan\,
  Brisbane\, Queensland\, 4111\, Australia;X-APPLE-RADIUS=72;X-TITLE=Nissan
  Arena:-27.560102;153.065556
END:VEVENT
BEGIN:VEVENT
UID:69eb5d1b58bbd
SUMMARY:ANZAC Day Photo Outing
DESCRIPTION:Saturday 25 April 6.30 amAnzac Square Cenotaph Ann St Brisbane
 
 This is an opportunity to capture the environment post Dawn Service. Mov
 ing from the Cenotaph through Anzac Square and on to the breakfast.
 The 
 early risers might attend the service and if interested in making a day of
  it\, stay around for the parade in mid-morning.
 An excellent event for 
 capturing images of people.
 Wear comfortable shoes a hat and have a supp
 ly of water.
 &nbsp\;
LOCATION:Shrine of Remembrance\, Ann Street\, Golden Triangle\, Brisbane Ci
 ty\, Brisbane\, Queensland\, 4000\, Australia
DTSTART:20260424T203000Z
DTEND:20260425T020000Z
DTSTAMP:20260402T212521Z
ORGANIZER;CN=Mt Gravatt Photographic Society:MAILTO:info@mgps.org.au
GEO:-27.46637;153.026456
X-APPLE-STRUCTURED-LOCATION;VALUE=URI;X-ADDRESS=Shrine of Remembrance\, Ann
  Street\, Golden Triangle\, Brisbane City\, Brisbane\, Queensland\, 4000\,
  Australia;X-APPLE-RADIUS=72;X-TITLE=ANZAC Square Cenotaph:-27.46637;153.0
 26456
END:VEVENT
BEGIN:VEVENT
UID:69eb5d1b58bd5
SUMMARY:Workshop. Close Up Photography in Natural Light - Part 2 Practical 
 Nature Shoot
DESCRIPTION:Workshop. Close Up Photography in Natural Light - Part 2 Practi
 cal Nature Shoot. Ann Smallegange and others TBA. 6.45AM start at waterway
 s near Golden Ave\, Calamvale. You will need: your telephoto lens (or macr
 o lens\, if you have one)\, a standard sized tripod (but not required if y
 our camera gear has good vibration reduction)\; to enhance the light - an 
 A4 sized card covered both sides with aluminium foil - one side flat the o
 ther \"crumpled up\" - or a plain flat white Styrofoam lid\; &nbsp\;a smal
 l chair/stool and 2 large rubbish bags or a small tarpaulin to keep the mo
 rning dew at bay.Highly recommended: remote-control shutter\; transparent 
 light diffuser ( a simple homemade version is fine). Also\, be aware of ho
 w close your lens can focus i.e. it's close up performance. &nbsp\;You don
 't need to buy a lot of expensive equipment or accessories. Please confirm
  your interest in attending via the Event which will appear on our Faceboo
 k page. This Workshop depends upon certain weather conditions prevailing. 
 On the evening of Thursday 14 May\, Ann will check forecast conditions for
  Sat 16 May and advise if it is to go ahead or be rescheduled. Alternative
  dates may include Sunday 17 May or the following weekend Saturday 23 May 
 and Sunday 24 May.
LOCATION:Brisbane\, 4116 Queensland\, Australia
DTSTART:20260515T204500Z
DTEND:20260515T234500Z
DTSTAMP:20260228T221335Z
ORGANIZER;CN=Mt Gravatt Photographic Society:MAILTO:info@mgps.org.au
GEO:-27.626485;153.052464
X-APPLE-STRUCTURED-LOCATION;VALUE=URI;X-ADDRESS=Brisbane\, 4116 Queensland\
 , Australia;X-APPLE-RADIUS=72;X-TITLE=Water Ways\, Golden Ave\, Calamvale:
 -27.626485;153.052464
END:VEVENT
END:VCALENDAR